Workbook

Sheet 第１号様式（第４条関係）
A2: 第１号様式（第４条関係）
J4: 年度大分県介護テクノロジー導入支援事業費補助金交付申請書
X6: 第 号
Z7: 年 | AC7: 月 | AF7: 日
B9: 大分県知事 | K9: 殿
M11: 住所
M12: 法人名
M13: 代表者職・氏名
D15: 令和 | G15: 年度において、下記のとおり大分県介護テクノロジー導入支援事業を実施したいので、
C16: 補助金 | J16: 円を交付されるよう、大分県介護テクノロジー導入支援事業費補助金交付
C17: 要綱第４条の規定により、関係書類を添えて申請します。
A19: 記
B21: １． | D21: 事業の目的
B22: ２． | D22: 事業完了予定年月日 | S22: 年 | V22: 月 | Y22: 日
B24: ３． | D24: 添付書類
C25: (1) | F25: 補助金交付申請額の算出根拠（第２号様式）
C26: (2) | F26: 事業計画書（第３号様式）
C27: (3) | F27: 収支予算書（第４号様式）
C28: (4) | F28: 誓約書（別紙）
C29: (5) | F29: その他知事が必要と認める書類
L35: 報告担当者 | Q35: 職・氏名
Q36: 電話番号
Q37: メールアドレス

Sheet 誓約書(第1号様式添付)
A1: 別紙
A3: 誓 約 書
B5: 私は、下記の事項について誓約します。
B6: なお、県が必要な場合には、大分県警察本部に照会することについて承諾します。
B7: また、照会で確認された情報は、今後、私が、大分県と行う他の誓約における確認に利用することに同意します。
A9: 記
B11: １ 自己又は自己の役員等は、次の各号のいずれにも該当しません。
B12: （１）暴力団（暴力団員による不当な行為の防止等に関する法律（平成３年法律第７７号）第２条第２号に
B13: 規定する暴力団をいう。以下同じ。）
B14: （２）暴力団員（同法第２条第６号に規定する暴力団員をいう。以下同じ。）
B15: （３）暴力団員が役員となっている事業者
B16: （４）暴力団員であることを知りながら、その者を雇用・使用している者
B17: （５）暴力団員であることを知りながら、その者と下請契約又は資材、原材料の購入契約等を締結している者
B18: （６）暴力団又は暴力団員に経済上の利益又は便宜を供与している者
B19: （７）暴力団又は暴力団員と社会通念上ふさわしくない交際を有するなど社会的に避難される関係を有してい
B20: る者
B21: （８）暴力団又は暴力団員であることを知りながらこれらを利用している者
B23: ２ １の（１）から（８）までに掲げる者が、その経営に実質的に関与している法人その他の団体又は個人で
B24: はありません。
N27: 年 | P27: 月 | R27: 日
B29: 大分県知事 | E29: ='第１号様式（第４条関係）'!G9 -> 0 | H29: 殿
I31: 〔法人、団体にあっては事務所所在地〕
I32: 〒
I33: 住 所
I34: （ふりがな）
I35: 法人名
I36: （ふりがな）
I37: 氏 名
I39: 生年月日 | M39: 年 | O39: 月 | Q39: 日 | R39: （ 男 ・ 女 ）

Sheet 第２号様式（第４条関係）
A2: 第２号様式（第４条関係）
B3: 補助金交付申請額の算出根拠
L5: （単位：円）
B6: １．介護テクノロジー
I7: 補助対象経費 | J7: =H20+H30+H40+H50+H60+H70+H80+H90+H100+H110 -> 0
I8: 補助額 | J8: =MIN(8000000,L20+L30+L40+L50+L60+L70+L80+L90+L100+L110) -> 0 | K8: （（E）（J）の合計と800万円のいずれか低い額）
B10: （１）介護業務支援のうち「介護ソフト」または「バックオフィスソフト」
B12: 事業所名：
B13: 種類 | E13: 職員数 | G13: 製品名 | H13: 補助対象経費（A) | I13: （B)台数 | J13: （C）=（A)×4/5 ※千円未満切捨 | K13: （D)基準額 | L13: （E）
B14: プルダウンを選択してください | E14: プルダウンを選択してください | K14: =IFERROR(VLOOKUP(B14&E14,データ!H:I,2,0),0) -> 0
B15: プルダウンを選択してください | K15: =IFERROR(VLOOKUP(B15,データ!$F$23:$I$24,4,0),0) -> 0
B16: 「介護ソフト定着促進支援」を活用して導入する経費
B17: 「介護ソフト定着促進支援」を活用して導入する経費
B18: 「介護ソフト定着促進支援」を活用して導入する経費
B19: プルダウンを選択してください | K19: =IFERROR(VLOOKUP(B19,データ!$F$26:$I$27,4,0),0) -> 0
B20: 小計 | H20: =SUM(H14:H19) -> 0 | J20: =IFERROR(ROUNDDOWN(H20*4/5,-3),"") -> 0 | K20: =SUM(K14:K19) -> 0 | L20: =MIN(J20,K20) -> 0
B22: 事業所名：
B23: 種類 | E23: 職員数 | G23: 製品名 | H23: 補助対象経費（A) | I23: （B)台数 | J23: （C）=（A)×4/5 ※千円未満切捨 | K23: （D)基準額 | L23: （E）
B24: プルダウンを選択してください | E24: プルダウンを選択してください | K24: =IFERROR(VLOOKUP(B24&E24,データ!H:I,2,0),0) -> 0
B25: プルダウンを選択してください | K25: =IFERROR(VLOOKUP(B25,データ!$F$23:$I$24,4,0),0) -> 0
B26: 「介護ソフト定着促進支援」を活用して導入する経費
B27: 「介護ソフト定着促進支援」を活用して導入する経費
B28: 「介護ソフト定着促進支援」を活用して導入する経費
B29: プルダウンを選択してください | K29: =IFERROR(VLOOKUP(B29,データ!$F$26:$I$27,4,0),0) -> 0
B30: 小計 | H30: =SUM(H24:H29) -> 0 | J30: =IFERROR(ROUNDDOWN(H30*4/5,-3),"") -> 0 | K30: =SUM(K24:K29) -> 0 | L30: =MIN(J30,K30) -> 0
B32: 事業所名：
B33: 種類 | E33: 職員数 | G33: 製品名 | H33: 補助対象経費（A) | I33: （B)台数 | J33: （C）=（A)×4/5 ※千円未満切捨 | K33: （D)基準額 | L33: （E）
B34: 介護業務支援（介護ソフト） | E34: プルダウンを選択してください | K34: =IFERROR(VLOOKUP(B34&E34,データ!H:I,2,0),0) -> 0
B35: プルダウンを選択してください | K35: =IFERROR(VLOOKUP(B35,データ!$F$23:$I$24,4,0),0) -> 0
B36: 「介護ソフト定着促進支援」を活用して導入する経費
B37: 「介護ソフト定着促進支援」を活用して導入する経費
B38: 「介護ソフト定着促進支援」を活用して導入する経費
B39: プルダウンを選択してください | K39: =IFERROR(VLOOKUP(B39,データ!$F$26:$I$27,4,0),0) -> 0
B40: 小計 | H40: =SUM(H34:H39) -> 0 | J40: =IFERROR(ROUNDDOWN(H40*4/5,-3),"") -> 0 | K40: =SUM(K34:K39) -> 0 | L40: =MIN(J40,K40) -> 0
B42: 事業所名：
B43: 種類 | E43: 職員数 | G43: 製品名 | H43: 補助対象経費（A) | I43: （B)台数 | J43: （C）=（A)×4/5 ※千円未満切捨 | K43: （D)基準額 | L43: （E）
B44: プルダウンを選択してください | E44: プルダウンを選択してください | K44: =IFERROR(VLOOKUP(B44&E44,データ!H:I,2,0),0) -> 0
B45: プルダウンを選択してください | K45: =IFERROR(VLOOKUP(B45,データ!$F$23:$I$24,4,0),0) -> 0
B46: 「介護ソフト定着促進支援」を活用して導入する経費
B47: 「介護ソフト定着促進支援」を活用して導入する経費
...

Sheet データ
C4: R7 | F4: R8
C6: 移乗支援（装着） | D6: 1000000 | G6: プルダウンを選択してください
C7: 移乗支援（リフト） | D7: 1000000 | F7: 介護業務支援（介護ソフト） | G7: 1名以上10名以下 | H7: =F$7&G7 -> 介護業務支援（介護ソフト）1名以上10名以下 | I7: 1000000
C8: 移乗支援（その他） | D8: 1000000 | G8: 11名以上20名以下 | H8: =F$7&G8 -> 介護業務支援（介護ソフト）11名以上20名以下 | I8: 1500000
C9: 移動支援 | D9: 300000 | G9: 21名以上30名以下 | H9: =F$7&G9 -> 介護業務支援（介護ソフト）21名以上30名以下 | I9: 2000000
C10: 排泄支援 | D10: 300000 | G10: 31名以上 | H10: =F$7&G10 -> 介護業務支援（介護ソフト）31名以上 | I10: 2500000
C11: 入浴支援（トロリーバス） | D11: 1000000 | G11: 上記以外の方式（一律） | H11: =F$7&G11 -> 介護業務支援（介護ソフト）上記以外の方式（一律） | I11: 2500000
C12: 入浴支援（その他） | D12: 1000000 | F12: 介護業務支援（バックオフィスソフト） | G12: 1名以上10名以下 | H12: =F$12&G12 -> 介護業務支援（バックオフィスソフト）1名以上10名以下 | I12: 1000000
C13: 見守り・コミュニケーション | D13: 300000 | G13: 11名以上20名以下 | H13: =F$12&G13 -> 介護業務支援（バックオフィスソフト）11名以上20名以下 | I13: 1500000
C14: 介護業務支援（その他） | D14: 300000 | G14: 21名以上30名以下 | H14: =F$12&G14 -> 介護業務支援（バックオフィスソフト）21名以上30名以下 | I14: 2000000
C15: 機能訓練支援 | D15: 300000 | G15: 31名以上 | H15: =F$12&G15 -> 介護業務支援（バックオフィスソフト）31名以上 | I15: 2500000
C16: 食事・栄養管理支援 | D16: 300000 | G16: 上記以外の方式（一律） | H16: =F$12&G16 -> 介護業務支援（バックオフィスソフト）上記以外の方式（一律） | I16: 2500000
C17: 認知症生活支援・認知症ケア支援 | D17: 300000
C18: 効果的・効率的なコミュニケーションを図るための機器（インカム等） | D18: 1000000
C19: バックオフィスソフト | D19: 1000000
C20: ウェアラブル端末 | D20: 1000000
F22: プルダウンを選択してください
F23: 「介護ソフトの定着促進支援」を活用しない | I23: 0
F24: 「介護ソフトの定着促進支援」を活用する | I24: 150000
F25: プルダウンを選択してください
F26: 居宅サービス事業所又は居宅介護支援事業所であって、令和８年度中に「ケアプランデータ連携システム」により５事業所以上とデータ連携を実施する | I26: 50000
F27: 該当なし | I27: 0
F29: プルダウンを選択してください
F30: 移乗支援（装着） | I30: 1000000
F31: 移乗支援（リフト） | I31: 1000000
F32: 移乗支援（その他） | I32: 1000000
F33: 移動支援 | I33: 300000
F34: 排泄支援 | I34: 300000
F35: 入浴支援（トロリーバス） | I35: 1000000
F36: 入浴支援（その他） | I36: 1000000
F37: 見守り・コミュニケーション | I37: 300000
F38: 介護業務支援（インカム） | I38: 1000000
F39: 介護業務支援（その他） | I39: 300000
F40: 機能訓練支援 | I40: 300000
F41: 食事・栄養管理支援 | I41: 300000
F42: 認知症生活支援・認知症ケア支援 | I42: 300000

Sheet 【記載例】第２号様式
A2: 第２号様式（第４条関係）
B3: 補助金交付申請額の算出根拠
L5: （単位：円）
B6: １．介護テクノロジー
I7: 補助対象経費 | J7: =H20+H30+H40+H50+H60+H70+H80+H90+H100+H110 -> 5000000
I8: 補助額 | J8: =MIN(8000000,L20+L30+L40+L50+L60+L70+L80+L90+L100+L110) -> 3500000 | K8: （（E）（J）の合計と800万円のいずれか低い額）
B10: （１）介護業務支援のうち「介護ソフト」または「バックオフィスソフト」
B12: 事業所名： | D12: A事業所
B13: 種類 | E13: 職員数 | G13: 製品名 | H13: 補助対象経費（A) | I13: （B)台数 | J13: （C）=（A)×4/5 ※千円未満切捨 | K13: （D)基準額 | L13: （E）
B14: 介護業務支援（介護ソフト） | E14: 上記以外の方式（一律） | G14: 介護記録ソフト○○○ | H14: 2400000 | K14: =IFERROR(VLOOKUP(B14&E14,データ!H:I,2,0),0) -> 2500000
B15: 「介護ソフトの定着促進支援」を活用する | K15: =IFERROR(VLOOKUP(B15,データ!$F$23:$I$24,4,0),0) -> 150000
B16: 「介護ソフト定着促進支援」を活用して導入する経費 | G16: モバイルPC | H16: 600000 | I16: 3
B17: 「介護ソフト定着促進支援」を活用して導入する経費 | G17: タブレット端末 | H17: 1000000 | I17: 5
B18: 「介護ソフト定着促進支援」を活用して導入する経費
B19: 居宅サービス事業所又は居宅介護支援事業所であって、令和８年度中に「ケアプランデータ連携システム」により５事業所以上とデータ連携を実施する | K19: =IFERROR(VLOOKUP(B19,データ!$F$26:$I$27,4,0),0) -> 50000
B20: 小計 | H20: =SUM(H14:H19) -> 4000000 | J20: =IFERROR(ROUNDDOWN(H20*4/5,-3),"") -> 3200000 | K20: =SUM(K14:K19) -> 2700000 | L20: =MIN(J20,K20) -> 2700000
B22: 事業所名： | D22: B事業所
B23: 種類 | E23: 職員数 | G23: 製品名 | H23: 補助対象経費（A) | I23: （B)台数 | J23: （C）=（A)×4/5 ※千円未満切捨 | K23: （D)基準額 | L23: （E）
B24: 介護業務支援（バックオフィスソフト） | E24: 11名以上20名以下 | G24: バックオフィスソフト○○○ | H24: 1000000 | K24: =IFERROR(VLOOKUP(B24&E24,データ!H:I,2,0),0) -> 1500000
B25: 「介護ソフトの定着促進支援」を活用しない | K25: =IFERROR(VLOOKUP(B25,データ!$F$23:$I$24,4,0),0) -> 0
B26: 「介護ソフト定着促進支援」を活用して導入する経費
B27: 「介護ソフト定着促進支援」を活用して導入する経費
B28: 「介護ソフト定着促進支援」を活用して導入する経費
B29: 該当なし | K29: =IFERROR(VLOOKUP(B29,データ!$F$26:$I$27,4,0),0) -> 0
B30: 小計 | H30: =SUM(H24:H29) -> 1000000 | J30: =IFERROR(ROUNDDOWN(H30*4/5,-3),"") -> 800000 | K30: =SUM(K24:K29) -> 1500000 | L30: =MIN(J30,K30) -> 800000
B32: 事業所名：
B33: 種類 | E33: 職員数 | G33: 製品名 | H33: 補助対象経費（A) | I33: （B)台数 | J33: （C）=（A)×4/5 ※千円未満切捨 | K33: （D)基準額 | L33: （E）
B34: プルダウンを選択してください | E34: プルダウンを選択してください | K34: =IFERROR(VLOOKUP(B34&E34,データ!H:I,2,0),0) -> 0
B35: プルダウンを選択してください | K35: =IFERROR(VLOOKUP(B35,データ!$F$23:$I$24,4,0),0) -> 0
B36: 「介護ソフト定着促進支援」を活用して導入する経費
B37: 「介護ソフト定着促進支援」を活用して導入する経費
B38: 「介護ソフト定着促進支援」を活用して導入する経費
B39: プルダウンを選択してください | K39: =IFERROR(VLOOKUP(B39,データ!$F$26:$I$27,4,0),0) -> 0
B40: 小計 | H40: =SUM(H34:H39) -> 0 | J40: =IFERROR(ROUNDDOWN(H40*4/5,-3),"") -> 0 | K40: =SUM(K34:K39) -> 0 | L40: =MIN(J40,K40) -> 0
B42: 事業所名：
B43: 種類 | E43: 職員数 | G43: 製品名 | H43: 補助対象経費（A) | I43: （B)台数 | J43: （C）=（A)×4/5 ※千円未満切捨 | K43: （D)基準額 | L43: （E）
B44: プルダウンを選択してください | E44: プルダウンを選択してください | K44: =IFERROR(VLOOKUP(B44&E44,データ!H:I,2,0),0) -> 0
B45: プルダウンを選択してください | K45: =IFERROR(VLOOKUP(B45,データ!$F$23:$I$24,4,0),0) -> 0
B46: 「介護ソフト定着促進支援」を活用して導入する経費
B47: 「介護ソフト定着促進支援」を活用して導入する経費
...

Sheet 第３号様式（第４条関係）※シート複写可
A2: 第３号様式（第４条関係）
A4: 事業計画書
B7: １． | D7: 導入機器名
B8: ２． | D8: 導入時期 | N8: 年 | Q8: 月 | T8: 日 | U8: ～ | V8: ='第１号様式（第４条関係）'!O22 -> 0 | X8: ='第１号様式（第４条関係）'!Q22 -> 0 | Z8: 年 | AA8: ='第１号様式（第４条関係）'!T22 -> 0 | AC8: 月 | AD8: ='第１号様式（第４条関係）'!W22 -> 0 | AF8: 日
B9: ３． | D9: 導入台（セット）数
B10: ４． | D10: 導入する事業所名および住所 | J10: 事業所名
J11: 住所
B12: ５． | D12: 導入に要する経費の 内訳 | J12: 項目 | Z12: 金額
AF13: 円
AF14: 円
AF15: 円
AF16: 円
AF17: 円
AF18: 円
AF19: 円
AF20: 円
AF21: 円
AF22: 円
AF23: 円
AF24: 円
... AF27: 円
J28: 合計 | Z28: =SUM(Z13:AE27) -> 0 | AF28: 円
B29: ６． | D29: 補助対象経費の内訳 | J29: 項目 | Z29: 金額
AF30: 円
AF31: 円
AF32: 円
AF33: 円
AF34: 円
AF35: 円
AF36: 円
AF37: 円
AF38: 円
AF39: 円
AF40: 円
AF41: 円
... AF44: 円
J45: 合計 | Z45: =SUM(Z30:AE44) -> 0 | AF45: 円

Sheet 第４号様式（第４条関係）　※シート複写不可
A2: 第４号様式（第４条関係）
A4: 収支予算書
A6: １ 収入
B7: 項目 | J7: 予算額 | R7: 備考
B8: 県費補助金 | Q8: 円
B9: 自己負担金 | Q9: 円
Q10: 円
Q11: 円
B12: 計 | J12: =SUM(J8:P11) -> 0 | Q12: 円
A14: ２ 支出
B15: 項目 | J15: 予算額 | R15: 備考
B16: 機器導入費 | Q16: 円
Q17: 円
Q18: 円
Q19: 円
B20: 計 | J20: =SUM(J16:P19) -> 0 | Q20: 円
O23: =IF(J12=J20,"OK","NG") -> OK

Sheet 第５号様式（第６条関係）
A1: （公印省略）
A2: 第５号様式（第６条関係）
F4: ='第１号様式（第４条関係）'!G4 -> 0 | H4: ='第１号様式（第４条関係）'!I4 -> 0 | J4: 年度大分県介護テクノロジー導入支援事業費補助金交付決定通知書
W6: 第号の
AA7: 年 | AD7: 月 | AG7: 日
B9: ='第１号様式（第４条関係）'!S12 -> 0
B10: ='第１号様式（第４条関係）'!S13 -> 0 | P10: 殿
W11: 大分県知事 | AB11: ='第１号様式（第４条関係）'!G9 -> 0
B13: ='第１号様式（第４条関係）'!V7 -> 0 | D13: ='第１号様式（第４条関係）'!X7 -> 0 | F13: 年 | G13: ='第１号様式（第４条関係）'!AA7 -> 0 | I13: 月 | J13: ='第１号様式（第４条関係）'!AD7 -> 0 | L13: 日付け | O13: ='第１号様式（第４条関係）'!X6 -> 第 号 | S13: で交付申請のあった | Z13: ='第１号様式（第４条関係）'!D15 -> 令和 | AB13: ='第１号様式（第４条関係）'!F15 -> 0 | AD13: 年度大分県介護
A14: テクノロジー導入支援事業費補助金については、下記のとおり交付することに決定したので、大分県介護テクノロジー導入支援事業費補助金交付要綱第６条の規定により通知します。
A16: 記
B18: １ | C18: 補助対象経費 | L18: 金
B19: ２ | C19: 補助金の交付決定額 | L19: 金
B21: ３ | C21: 補助条件
C22: (１) | D22: 補助事業の内容又は経費の配分の変更（知事が定める軽微な変更を除く。）をする場合は、補助事業変更承認申請書（第５号様式）を知事に提出し、その承認を受けること。
C24: (２) | D24: 補助事業を中止し、又は廃止する場合は、事業中止（廃止）承認申請書（第６号様式）を知事に提出し、その承認を受けること。
C26: (３) | D26: 補助事業が予定の期間内に完了しない場合又は補助事業の遂行が困難となった場合は、速やかに知事に報告し、その指示を受けること。
C28: (４) | D28: この補助金に係る収入及び支出を明らかにした預金通帳、金銭（預金）出納簿等の帳簿及び契約書、領収書等の証拠書類は、補助事業が完了した日の属する年度の翌年度から起算して１０年間整備保管すること。
C30: (５) | D30: 暴力団員（暴力団員による不当な行為の防止等に関する法律（平成３年法律第７７号）第２条第６号に規定する暴力団員をいう。以下同じ。）又は暴力団（同法第２条第２号に規定する暴力団をいう。）若しくは暴力団員と密接な関係を有する者であってはならないこと。
C32: (６) | D32: この補助事業によって取得し、又は効用の増加した財産（以下「財産」という。）は、知事の承認を受けないで、補助金の交付目的に反して使用し、譲渡し、交換し、貸付け又は担保の用に供してはならないこと。ただし、減価償却資産の耐用年数等に関する省令に定められている財産については、 大蔵省令（昭和４０年大蔵省令第１５号。以下「大蔵省令」という。）に定められている耐用年数に相当する期間を経過している場合はこの限りではないこと。
C34: (７) | D34: 財産は、財産管理台帳及びその他関係書類を整備保管し、当該補助事業の完了後においても善良な管理者の注意をもって管理するとともに、補助金の交付目的に従って、その効率的な運用を図ること。
C36: (８) | D36: 財産のうち、一件当たりの取得価格が３０万円以上のものを処分しようとするときは、あらかじめ知事の承認を受けること。ただし、大蔵省令に定められている財産については、大蔵省令に定められている耐用年数に相当する期間を経過している場合はこの限りではないこと。
C38: (９) | D38: 知事の承認を受けて財産を処分したことにより収入があった場合は、その収入の全部又は一部を県に納付させることがあること。
C40: (10) | D40: 第４条第３項ただし書きの規定により補助金の交付申請をした場合は、第１０条の規定による実績報告書の提出時に、当該補助金に係る消費税等仕入控除税額が明らかになったときは、これを補助金額から減額して報告すること。
C42: (11) | D42: 第４条第３項ただし書きの規定により補助金の交付申請をした場合は、第１１条の規定による補助金の額の確定通知を受けた後において、消費税等の申告により当該補助金に係る消費税等仕入控除税額が確定したときは、その金額（前号の規定により減額した場合は、その金額が減じた額を上回る部分の金額）を補助金に係る消費税等仕入控除税額確定報告書（第10号様式）により速やかに知事に報告するとともに、当該金額を返還すること。
C44: (12) | D44: その他、大分県補助金等交付規則、大分県介護テクノロジー導入支援事業実施要領及び大分県介護テクノロジー導入支援事業費補助金交付要綱の定めに従うこと。
C46: (13) | D46: 大分県補助金等交付規則第５条第１項第１号の規定による知事の定める軽微な変更の範囲は、補助金の額に変更を及ぼさない変更で、次のとおりとする。 ア 補助金の交付目的に反しない事業内容の変更（事業量の２０パーセント以内の減少等） イ 補助対象経費の２０パーセント以内の増減 ただし、補助金の減額であり、価格競争（入札等）を行った結果で、内容に一切の変更がない場合 は軽微な変更の範囲に含まれる。 この場合にあっては、実績報告に併せて変更の承認を申請すること。

Sheet 第５号様式（第６条関係） (変更決定)
A1: （公印省略）
A2: 第５号様式（第６条関係）
D4: ='第１号様式（第４条関係）'!G4 -> 0 | F4: ='第１号様式（第４条関係）'!I4 -> 0 | H4: 年度大分県介護テクノロジー導入支援事業費補助金変更交付決定通知書
W6: 第号の
AA7: 年 | AD7: 月 | AG7: 日
B9: ='第１号様式（第４条関係）'!S12 -> 0
B10: ='第１号様式（第４条関係）'!S13 -> 0 | P10: 殿
W11: 大分県知事 | AB11: ='第１号様式（第４条関係）'!G9 -> 0
D13: ='第６号様式 (第５条関係)'!Z7 -> 0 | F13: 年 | G13: ='第６号様式 (第５条関係)'!AC7 -> 0 | I13: 月 | J13: ='第６号様式 (第５条関係)'!AE7 -> 0 | L13: 日付け | N13: ='第６号様式 (第５条関係)'!Y6 -> 第 号 | S13: で変更承認申請のあった | AB13: 令和 | AD13: ='第１号様式（第４条関係）'!F15 -> 0 | AF13: 年度
A14: 大分県介護テクノロジー導入支援事業費補助金については、下記のとおり変更交付することに決定したので、大分県介護テクノロジー導入支援事業費補助金交付要綱第６条の規定により通知します。
A16: 記
K18: （ | L18: 金 | M18: ='第５号様式（第６条関係）'!M18 -> 0 | R18: ）
B19: １ | C19: 補助対象経費 | L19: 金
K20: （ | L20: 金 | M20: ='第５号様式（第６条関係）'!M19 -> 0 | R20: ）
B21: ２ | C21: 補助金の交付決定額 | L21: 金
B23: ３ | C23: 補助条件
C24: (１) | D24: 補助事業の内容又は経費の配分の変更（知事が定める軽微な変更を除く。）をする場合は、補助事業変更承認申請書（第５号様式）を知事に提出し、その承認を受けること。
C26: (２) | D26: 補助事業を中止し、又は廃止する場合は、事業中止（廃止）承認申請書（第６号様式）を知事に提出し、その承認を受けること。
C28: (３) | D28: 補助事業が予定の期間内に完了しない場合又は補助事業の遂行が困難となった場合は、速やかに知事に報告し、その指示を受けること。
C30: (４) | D30: この補助金に係る収入及び支出を明らかにした預金通帳、金銭（預金）出納簿等の帳簿及び契約書、領収書等の証拠書類は、補助事業が完了した日の属する年度の翌年度から起算して１０年間整備保管すること。
C32: (５) | D32: 暴力団員（暴力団員による不当な行為の防止等に関する法律（平成３年法律第７７号）第２条第６号に規定する暴力団員をいう。以下同じ。）又は暴力団（同法第２条第２号に規定する暴力団をいう。）若しくは暴力団員と密接な関係を有する者であってはならないこと。
C34: (６) | D34: この補助事業によって取得し、又は効用の増加した財産（以下「財産」という。）は、知事の承認を受けないで、補助金の交付目的に反して使用し、譲渡し、交換し、貸付け又は担保の用に供してはならないこと。ただし、減価償却資産の耐用年数等に関する省令に定められている財産については、 大蔵省令（昭和４０年大蔵省令第１５号。以下「大蔵省令」という。）に定められている耐用年数に相当する期間を経過している場合はこの限りではないこと。
C36: (７) | D36: 財産は、財産管理台帳及びその他関係書類を整備保管し、当該補助事業の完了後においても善良な管理者の注意をもって管理するとともに、補助金の交付目的に従って、その効率的な運用を図ること。
C38: (８) | D38: 財産のうち、一件当たりの取得価格が３０万円以上のものを処分しようとするときは、あらかじめ知事の承認を受けること。ただし、大蔵省令に定められている財産については、大蔵省令に定められている耐用年数に相当する期間を経過している場合はこの限りではないこと。
C40: (９) | D40: 知事の承認を受けて財産を処分したことにより収入があった場合は、その収入の全部又は一部を県に納付させることがあること。
C42: (10) | D42: 第４条第３項ただし書きの規定により補助金の交付申請をした場合は、第１０条の規定による実績報告書の提出時に、当該補助金に係る消費税等仕入控除税額が明らかになったときは、これを補助金額から減額して報告すること。
C44: (11) | D44: 第４条第３項ただし書きの規定により補助金の交付申請をした場合は、第１１条の規定による補助金の額の確定通知を受けた後において、消費税等の申告により当該補助金に係る消費税等仕入控除税額が確定したときは、その金額（前号の規定により減額した場合は、その金額が減じた額を上回る部分の金額）を補助金に係る消費税等仕入控除税額確定報告書（第10号様式）により速やかに知事に報告するとともに、当該金額を返還すること。
C46: (12) | D46: その他、大分県補助金等交付規則、大分県介護テクノロジー導入支援事業実施要領及び大分県介護テクノロジー導入支援事業費補助金交付要綱の定めに従うこと。
C48: (13) | D48: 大分県補助金等交付規則第５条第１項第１号の規定による知事の定める軽微な変更の範囲は、補助金の額に変更を及ぼさない変更で、次のとおりとする。 ア 補助金の交付目的に反しない事業内容の変更（事業量の２０パーセント以内の減少等） イ 補助対象経費の２０パーセント以内の増減 ただし、補助金の減額であり、価格競争（入札等）を行った結果で、内容に一切の変更がない場合 は軽微な変更の範囲に含まれる。 この場合にあっては、実績報告に併せて変更の承認を申請すること。

Sheet 第６号様式 (第５条関係)
A2: 第６号様式（第５条関係）
D4: ='第１号様式（第４条関係）'!G4 -> 0 | F4: ='第１号様式（第４条関係）'!I4 -> 0 | H4: 年度大分県介護テクノロジー導入支援事業費補助金変更承認申請書
Y6: 第 号
AB7: 年 | AD7: 月 | AG7: 日
B9: 大分県知事 | G9: ='第１号様式（第４条関係）'!G9 -> 0 | L9: 殿
N11: 住所 | T11: ='第１号様式（第４条関係）'!S11 -> 0
N12: 法人名 | T12: ='第１号様式（第４条関係）'!S12 -> 0
N13: 代表者職・氏名 | T13: ='第１号様式（第４条関係）'!S13 -> 0
F16: 年 | I16: 月 | L16: 日付け | R16: 第 | V16: 号の | Z16: で交付決定通知のあった
A17: ='第１号様式（第４条関係）'!G4 -> 0 | C17: ='第１号様式（第４条関係）'!I4 -> 0 | E17: 年度大分県介護テクノロジー導入支援事業について、下記のとおり変更したいので承認さ
A18: れるよう、大分県介護テクノロジー導入支援事業費補助金交付要綱第５条第１項第１号の規定により申請します。
A20: 記
B23: １． | C23: 変更の理由
B24: 2. | C24: 事業完了予定年月日 | K24: （変更前 | S24: 年 | V24: 月 | Y24: 日 | Z24: ）
K25: 変更後 | S25: 年 | V25: 月 | Y25: 日
C27: （添付書類）
C28: -1
C29: -2
C30: -3
C31: -4
C32: （備考）
C33: 以下、第１号様式の記の２以下に準じて作成するものとし、変更前と変更後が比較対照できるよ
C34: う、変更部分を二段書きにし、変更前をかっこ書きで上段に記載すること。
M36: 報告担当者 | R36: 職・氏名 | W36: ='第１号様式（第４条関係）'!V35 -> 0
R37: 電話番号 | W37: ='第１号様式（第４条関係）'!V36 -> 0
R38: メールアドレス | W38: ='第１号様式（第４条関係）'!V37 -> 0

Sheet 第７号様式（第５条関係）
A1: （公印省略）
A2: 第７号様式（第５条関係）
E4: ='第１号様式（第４条関係）'!G4 -> 0 | G4: ='第１号様式（第４条関係）'!I4 -> 0 | I4: 年度大分県介護テクノロジー導入支援事業費補助金変更承認通知書
W6: 第 号
Z7: 年 | AC7: 月 | AF7: 日
B9: ='第１号様式（第４条関係）'!S12 -> 0
B10: ='第１号様式（第４条関係）'!S13 -> 0 | O10: 殿
V11: 大分県知事 | AA11: ='第１号様式（第４条関係）'!G9 -> 0
B13: ='第６号様式 (第５条関係)'!X7 -> 0 | D13: ='第６号様式 (第５条関係)'!Z7 -> 0 | F13: 年 | G13: ='第６号様式 (第５条関係)'!AC7 -> 0 | I13: 月 | J13: ='第６号様式 (第５条関係)'!AE7 -> 0 | L13: 日付け | N13: ='第６号様式 (第５条関係)'!Y6 -> 第 号 | S13: で提出のあった | Y13: ='第１号様式（第４条関係）'!D15 -> 令和 | AA13: ='第１号様式（第４条関係）'!F15 -> 0 | AC13: 年度大分県
A14: 介護テクノロジー導入支援事業変更承認申請書については、大分県介護テクノロジー導入支援事業費補助金交付要綱第５条の規定に基づき、承認します。
Q33: 担 当 | W33: 大分県高齢者福祉課 人材確保・DX推進班
Q34: 電 話 | W34: 097-506-2785・2783
Q35: メールアドレス | W35: donyu-hojyo@pref.oita.jp

Sheet 第８号様式 (第５条関係) 
A2: 第８号様式（第５条関係）
E4: ='第１号様式（第４条関係）'!G4 -> 0 | G4: ='第１号様式（第４条関係）'!I4 -> 0 | I4: 年度大分県介護テクノロジー導入支援事業 | Z4: 承認申請書
X6: 第 号
AA7: 年 | AD7: 月 | AG7: 日
B9: 大分県知事 | G9: ='第１号様式（第４条関係）'!G9 -> 0 | L9: 殿
N11: 住所 | T11: ='第１号様式（第４条関係）'!S11 -> 0
N12: 法人名 | T12: ='第１号様式（第４条関係）'!S12 -> 0
N13: 代表者職・氏名 | T13: ='第１号様式（第４条関係）'!S13 -> 0
F16: 年 | I16: 月 | L16: 日付け | R16: 第 | V16: 号の | Z16: で交付決定通知のあった
E17: 年度大分県介護テクノロジー導入支援事業について、下記のとおり | AD17: したいので
A18: 承認されるよう、大分県介護テクノロジー導入支援事業費補助金交付要綱第５条第１項第２号の規定により申請します。
A20: 記
B23: １． | C23: 中止（廃止）の理由
B24: ２． | C24: 中止の期間（又は廃止の期日）
B25: ３． | C25: 中止（廃止）後の措置
M33: 報告担当者 | R33: 職・氏名 | W33: ='第１号様式（第４条関係）'!V35 -> 0
R34: 電話番号 | W34: ='第１号様式（第４条関係）'!V36 -> 0
R35: メールアドレス | W35: ='第１号様式（第４条関係）'!V37 -> 0

Sheet 第９号様式（第５条関係）
A1: （公印省略）
A2: 第９号様式（第５条関係）
E4: ='第１号様式（第４条関係）'!G4 -> 0 | G4: ='第１号様式（第４条関係）'!I4 -> 0 | I4: 年度大分県介護テクノロジー導入支援事業 | X4: 承認通知書
W6: 第 号
AA7: 年 | AD7: 月 | AG7: 日
B9: ='第１号様式（第４条関係）'!S12 -> 0
B10: ='第１号様式（第４条関係）'!S13 -> 0 | O10: 殿
V11: 大分県知事 | AA11: ='第１号様式（第４条関係）'!G9 -> 0
B13: ='第８号様式 (第５条関係) '!W7 -> 0 | D13: ='第８号様式 (第５条関係) '!Y7 -> 0 | F13: 年 | G13: ='第８号様式 (第５条関係) '!AB7 -> 0 | I13: 月 | J13: ='第８号様式 (第５条関係) '!AE7 -> 0 | L13: 日付け | N13: ='第８号様式 (第５条関係) '!X6 -> 第 号 | S13: で提出のあった | Y13: ='第１号様式（第４条関係）'!D15 -> 令和 | AA13: ='第１号様式（第４条関係）'!F15 -> 0 | AC13: 年度大分県
A14: 介護テクノロジー導入支援事業 | N14: 承認申請書については、大分県介護テクノロジー導入支援事
A15: 業費補助金交付要綱第５条の規定に基づき、承認します。
Q33: 担 当 | W33: 大分県高齢者福祉課 人材確保・DX推進班
Q34: 電 話 | W34: 097-506-2785・2783
Q35: メールアドレス | W35: ='第７号様式（第５条関係）'!W35 -> donyu-hojyo@pref.oita.jp

Sheet 第１０号様式 (第５条関係) 
A2: 第１０号様式（第５条関係）
F4: ='第１号様式（第４条関係）'!G4 -> 0 | H4: ='第１号様式（第４条関係）'!I4 -> 0 | J4: 年度大分県介護テクノロジー導入支援事業費補助金に係る
G5: 消費税等仕入控除税額確定報告書
Z7: 第 号
AB8: 年 | AD8: 月 | AG8: 日
B10: 大分県知事 | G10: ='第１号様式（第４条関係）'!G9 -> 0 | L10: 殿
N12: 住所 | T12: ='第１号様式（第４条関係）'!S11 -> 0
N13: 法人名 | T13: ='第１号様式（第４条関係）'!S12 -> 0
N14: 代表者職・氏名 | T14: ='第１号様式（第４条関係）'!S13 -> 0
F17: 年 | I17: 月 | L17: 日付け | R17: 第 | V17: 号の | Z17: で交付決定通知のあった
E18: 年度大分県介護テクノロジー導入支援事業費補助金に係る消費税等仕入控除税額が
A19: 確定したので、大分県介護テクノロジー導入支援事業費補助金交付要綱第５条第１項第１１号の規定により、下記のとおり報告します。
A21: 記
B22: １ | C22: 補助金の額の確定額 | V22: 金 | W22: 0
C23: （ 年 月 日付け 第 号による額の確定通知額）
B24: ２ | C24: 補助金の額の確定時に減額した消費税等仕入控除税額 | V24: 金 | W24: 0
B25: ３ | C25: 消費税等の申告により確定した消費税等仕入控除税額 | V25: 金 | W25: 0
B26: ４ | C26: 補助金返還相当額（３－２） | V26: 金 | W26: 0
B27: ５ | C27: その他
C28: （１）別紙を添付すること。
C29: （２）その他参考となる書類
D30: 消費税確定申告書の写し及びその添付書類（補助金に係るもの）を添付すること。
A33: （注）補助金返還相当額がない場合も報告すること。
M40: 報告担当者 | R40: 職・氏名 | W40: ='第１号様式（第４条関係）'!V35 -> 0
R41: 電話番号 | W41: ='第１号様式（第４条関係）'!V36 -> 0
R42: メールアドレス | W42: ='第１号様式（第４条関係）'!V37 -> 0
A45: 別紙
F47: ='第１号様式（第４条関係）'!G4 -> 0 | H47: ='第１号様式（第４条関係）'!I4 -> 0 | J47: 年度大分県介護テクノロジー導入支援事業費補助金に係る
G48: 消費税等仕入控除税額集計表
D50: 仕入に係る消費税額及び 地方消費税額 （Ａ） | M50: 補助率（Ｂ） | R50: 仕入に係る消費税等仕入 控除税額 （Ａ×Ｂ） | AB50: 備考
D56: （注）１ 「仕入に係る消費税額及び地方消費税額」欄は、補助対象経費に含まれる消費 税等相当額のうち、消費税法の規定により、仕入に係る消費税額と当該金額に 地方税法に規定する地方消費税率を乗じて得た金額との合計額を記載する こと。
D57: ２ 「仕入に係る消費税等仕入控除税額」欄は、補助対象経費に含まれる消費税等 相当額のうち、消費税法の規定により、仕入に係る消費税額として控除できる 金額と当該金額に地方税法に規定する地方消費税率を乗じて得た金額との合 計額に補助率を乗じて得た金額を記載すること。

Sheet 第１１号様式 (第９条関係)
A2: 第１１号様式（第９条関係）
E4: ='第１号様式（第４条関係）'!G4 -> 0 | G4: ='第１号様式（第４条関係）'!I4 -> 0 | I4: 年度大分県介護テクノロジー導入支援事業費補助金交付請求書
Z6: 第 号
AB7: 年 | AD7: 月 | AG7: 日
B9: 大分県知事 | G9: ='第１号様式（第４条関係）'!G9 -> 0 | L9: 殿
N11: 住所 | T11: ='第１号様式（第４条関係）'!S11 -> 0
N12: 法人名 | T12: ='第１号様式（第４条関係）'!S12 -> 0
N13: 代表者職・氏名 | T13: ='第１号様式（第４条関係）'!S13 -> 0
F16: 年 | I16: 月 | L16: 日付け | R16: 第 | V16: 号の | Z16: で交付決定通知のあった
A17: ='第１号様式（第４条関係）'!G4 -> 0 | C17: =G4 -> 0 | E17: 年度大分県介護テクノロジー導入支援事業費補助金 | AA17: 円を | AE17: の方法
A18: により交付されるよう、大分県介護テクノロジー導入支援事業費補助金交付要綱第９条の規定により請求します。
A20: 記
B22: 補助金交付 決定額 | G22: 既受領額 | L22: 今回請求額 | Q22: 残額 | V22: 事業 | AB22: 年月日 | AD22: 備考
F24: 円 | K24: 円 | P24: 円 | Q24: =B24-G24-L24 -> 0 | U24: 円 | Y24: 年 | AA24: 月 | AC24: 日
B27: 金融機関名
B28: 支店名
B29: 口座種別
B30: 口座番号
B31: 口座名義人（カナ）
M39: 報告担当者 | R39: 職・氏名 | W39: ='第１号様式（第４条関係）'!V35 -> 0
R40: 電話番号 | W40: ='第１号様式（第４条関係）'!V36 -> 0
R41: メールアドレス | W41: ='第１号様式（第４条関係）'!V37 -> 0

Sheet 第１２号様式（第１０条関係）
A2: 第１２号様式（第１０条関係）
G4: ='第１号様式（第４条関係）'!G4 -> 0 | I4: ='第１号様式（第４条関係）'!I4 -> 0 | K4: 年度大分県介護テクノロジー導入支援事業実績報告書
Z6: 第 号
AB7: 年 | AD7: 月 | AG7: 日
B9: 大分県知事 | G9: ='第１号様式（第４条関係）'!G9 -> 0 | L9: 殿
M11: 住所 | S11: ='第１号様式（第４条関係）'!S11 -> 0
M12: 法人名 | S12: ='第１号様式（第４条関係）'!S12 -> 0
M13: 代表者職・氏名 | S13: ='第１号様式（第４条関係）'!S13 -> 0
F15: 年 | I15: 月 | L15: 日付け | R15: 第 | V15: 号の | Z15: で交付決定通知のあった
A16: ='第１号様式（第４条関係）'!G4 -> 0 | C16: ='第１号様式（第４条関係）'!I4 -> 0 | E16: 年度大分県介護テクノロジー導入支援事業について、下記のとおり実施したので、
A17: 大分県介護テクノロジー導入支援事業費補助金交付要綱第１０条の規定により、その実績を関係書類を添えて報告します。併せて、補助対象経費の軽微な変更が生じたため、実績のとおり承認されるよう申請します。
A19: 記
B21: １． | D21: 事業の効果
B22: ２． | D22: 事業完了年月日 | S22: 年 | V22: 月 | Y22: 日
B24: ３． | D24: 添付書類
C25: (1) | F25: 事業実績書（第１３号様式）
C26: (2) | F26: 収支精算書（第１４号様式）
C27: (3) | F27: 契約書又は見積書の写し
C28: (4) | F28: 完成写真
C29: (5) | F29: 領収書又は請求書の写し
C30: (6) | F30: 財産管理台帳の写し
C31: (7) | F31: その他知事が必要と認める書類
C34: ※減額確定でない場合は、不要な事項は二重線により削除すること。
M38: 報告担当者 | R38: 職・氏名 | W38: ='第１号様式（第４条関係）'!V35 -> 0
R39: 電話番号 | W39: ='第１号様式（第４条関係）'!V36 -> 0
R40: メールアドレス | W40: ='第１号様式（第４条関係）'!V37 -> 0

Sheet 第１３号様式（第１０条関係）※シート複写可
A2: 第１３号様式（第１０条関係）
A4: 事業実績書
B7: １． | D7: 導入機器名
B8: ２． | D8: 導入時期 | J8: ='第１２号様式（第１０条関係）'!O22 -> 0 | L8: ='第１２号様式（第１０条関係）'!Q22 -> 0 | N8: 年 | O8: ='第１２号様式（第１０条関係）'!T22 -> 0 | Q8: 月 | R8: ='第１２号様式（第１０条関係）'!W22 -> 0 | T8: 日
B9: ３． | D9: 機器を導入した事業所名および台数 | J9: 事業所名
J10: 配置台数
B11: ４． | D11: 導入に要した経費の 内訳 | J11: 項目 | Z11: 金額
AF12: 円
AF13: 円
AF14: 円
AF15: 円
AF16: 円
AF17: 円
AF18: 円
AF19: 円
AF20: 円
AF21: 円
AF22: 円
AF23: 円
... AF26: 円
J27: 合計 | Z27: =SUM(Z12:AE26) -> 0 | AF27: 円
B28: ５． | D28: 使用状況及び導入により得られた成果 （事業実績書作成までの使用状況及び導入により得られた成果を記入してください。）

Sheet 第１４号様式（第４条関係）　※シート複写不可
A2: 第１４号様式（第１０条関係）
A4: 収支精算書
A6: １ 収入
B7: 項目 | J7: 精算額 | P7: 予算額 | V7: 増減 | AA7: 備考
B8: 県費補助金 | O8: 円 | U8: 円 | V8: =J8-P8 -> 0 | Z8: 円
B9: 自己負担額 | O9: 円 | U9: 円 | V9: =J9-P9 -> 0 | Z9: 円
O10: 円 | U10: 円 | V10: =J10-P10 -> 0 | Z10: 円
O11: 円 | U11: 円 | V11: =J11-P11 -> 0 | Z11: 円
B12: 計 | J12: =SUM(J8:N11) -> 0 | O12: 円 | P12: =SUM(P8:T11) -> 0 | U12: 円 | V12: =J12-P12 -> 0 | Z12: 円
A14: ２ 支出
B15: 項目 | J15: 精算額 | P15: 予算額 | V15: 増減 | AA15: 備考
B16: 機器導入費用 | O16: 円 | U16: 円 | V16: =J16-P16 -> 0 | Z16: 円
O17: 円 | U17: 円 | V17: =J17-P17 -> 0 | Z17: 円
O18: 円 | U18: 円 | V18: =J18-P18 -> 0 | Z18: 円
O19: 円 | U19: 円 | V19: =J19-P19 -> 0 | Z19: 円
B20: 計 | J20: =SUM(J16:N19) -> 0 | O20: 円 | P20: =SUM(P16:T19) -> 0 | U20: 円 | V20: =J20-P20 -> 0 | Z20: 円
O23: =IF(J12=J20,"OK","NG") -> OK | U23: =IF(P12=P20,"OK","NG") -> OK

Sheet 第１５号様式（第１１条関係）
A1: （公印省略）
A2: 第１５号様式（第１１条関係）
F4: ='第１号様式（第４条関係）'!G4 -> 0 | H4: ='第１号様式（第４条関係）'!I4 -> 0 | J4: 年度大分県介護テクノロジー導入支援事業費補助金の額の確定通知書
W6: 第 号
AA7: 年 | AD7: 月 | AG7: 日
B9: ='第１号様式（第４条関係）'!S12 -> 0
B10: ='第１号様式（第４条関係）'!S13 -> 0 | P10: 殿
W11: 大分県知事 | AB11: ='第１号様式（第４条関係）'!G9 -> 0
B13: ='第１２号様式（第１０条関係）'!X7 -> 0 | D13: ='第１２号様式（第１０条関係）'!Z7 -> 0 | F13: 年 | G13: ='第１２号様式（第１０条関係）'!AC7 -> 0 | I13: 月 | J13: ='第１２号様式（第１０条関係）'!AE7 -> 0 | L13: 日付け | O13: ='第１２号様式（第１０条関係）'!Z6 -> 第 号 | U13: で提出のあった | AA13: ='第１号様式（第４条関係）'!G4 -> 0 | AC13: ='第１号様式（第４条関係）'!I4 -> 0 | AE13: 年度
A14: 大分県介護テクノロジー導入支援事業実績報告書に基づき、 | U14: ='第５号様式（第６条関係）'!$Y$7 -> 0 | W14: 年 | X14: ='第５号様式（第６条関係）'!$AB$7 -> 0 | Z14: 月 | AA14: ='第５号様式（第６条関係）'!$AE$7 -> 0 | AC14: 日付け
A15: 第 | E15: 号の | I15: による交付決定通知に係る補助金の額 | AA15: 円については、
A16: 金 | H16: 円に確定したので、大分県介護テクノロジー導入支援事業費補助金交付要綱第１１条の
A17: 規定により通知します。
A20: ※減額確定でない場合は、不要な事項は削除して作成すること。
A21: ※減額確定の場合は、補助条件を明示すること。（要綱第５条の規定を転記）
Q40: 担 当 | W40: 大分県高齢者福祉課 人材確保・DX推進班
Q41: 電 話 | W41: 097-506-2785・2783
Q42: メールアドレス | W42: donyu-hojyo@pref.oita.jp

Sheet 【変更申請】第２号様式（第４条関係）
A2: 第２号様式（第４条関係）
B3: 補助金交付申請額の算出根拠
L5: （単位：円）
B6: １．介護テクノロジー | J6: =H25+H40+H55+H70+H85+H100+H115+H130+H145+H160+H182+H202+H222+H242+H262+H282+H302+H322+H342+H362 -> 0
I7: 補助対象経費 | J7: =H26+H41+H56+H71+H86+H101+H116+H131+H146+H161+H183+H203+H223+H243+H263+H283+H303+H323+H343+H363 -> 0
J8: =MIN(8000000,L25+L40+L55+L70+L85+L100+L115+L130+L145+L160+L182+L202+L222+L242+L262+L282+L302+L322+L342+L362) -> 0
I9: 補助額 | J9: =MIN(8000000,L26+L41+L56+L71+L86+L101+L116+L131+L146+L161+L183+L203+L223+L243+L263+L283+L303+L323+L343+L363) -> 0 | K9: （（E）（J）の合計と800万円のいずれか低い額）
B11: （１）介護業務支援のうち「介護ソフト」または「バックオフィスソフト」
B13: 事業所名：
B14: 種類 | E14: 職員数 | G14: 製品名 | H14: 補助対象経費（A) | I14: （B)台数 | J14: （C）=（A)×4/5 ※千円未満切捨 | K14: （D)基準額 | L14: （E）
B15: プルダウンを選択してください | E15: プルダウンを選択してください | G15: ='第２号様式（第４条関係）'!G14 -> 0 | H15: ='第２号様式（第４条関係）'!H14 -> 0 | K15: =IFERROR(VLOOKUP(B15&E15,データ!H:I,2,0),0) -> 0
B17: プルダウンを選択してください | K17: =IFERROR(VLOOKUP(B17,データ!$F$23:$I$24,4,0),0) -> 0
B18: 「介護ソフト定着促進支援」を活用して導入する経費 | G18: ='第２号様式（第４条関係）'!G16 -> 0 | H18: ='第２号様式（第４条関係）'!H16 -> 0 | I18: ='第２号様式（第４条関係）'!I16 -> 0
B20: 「介護ソフト定着促進支援」を活用して導入する経費 | G20: ='第２号様式（第４条関係）'!G17 -> 0 | H20: ='第２号様式（第４条関係）'!H17 -> 0 | I20: ='第２号様式（第４条関係）'!I17 -> 0
B22: 「介護ソフト定着促進支援」を活用して導入する経費 | G22: ='第２号様式（第４条関係）'!G18 -> 0 | H22: ='第２号様式（第４条関係）'!H18 -> 0 | I22: ='第２号様式（第４条関係）'!I18 -> 0
B24: プルダウンを選択してください | K24: =IFERROR(VLOOKUP(B24,データ!$F$26:$I$27,4,0),0) -> 0
B25: 小計 | H25: =H15+H18+H20+H22 -> 0 | J25: =IFERROR(ROUNDDOWN(H25*4/5,-3),"") -> 0 | K25: =K15+K17+K24 -> 0 | L25: =MIN(J25,K25) -> 0
H26: =H16+H19+H21+H23 -> 0 | J26: =IFERROR(ROUNDDOWN(H26*4/5,-3),"") -> 0 | K26: =K15+K17+K24 -> 0 | L26: =MIN(J26,K26) -> 0
B28: 事業所名：
B29: 種類 | E29: 職員数 | G29: 製品名 | H29: 補助対象経費（A) | I29: （B)台数 | J29: （C）=（A)×4/5 ※千円未満切捨 | K29: （D)基準額 | L29: （E）
B30: プルダウンを選択してください | E30: プルダウンを選択してください | G30: ='第２号様式（第４条関係）'!G24 -> 0 | H30: ='第２号様式（第４条関係）'!H24 -> 0 | K30: =IFERROR(VLOOKUP(B30&E30,データ!H:I,2,0),0) -> 0
B32: プルダウンを選択してください | K32: =IFERROR(VLOOKUP(B32,データ!$F$23:$I$24,4,0),0) -> 0
B33: 「介護ソフト定着促進支援」を活用して導入する経費 | G33: ='第２号様式（第４条関係）'!G26 -> 0 | H33: ='第２号様式（第４条関係）'!H26 -> 0 | I33: ='第２号様式（第４条関係）'!I26 -> 0
B35: 「介護ソフト定着促進支援」を活用して導入する経費 | G35: ='第２号様式（第４条関係）'!G27 -> 0 | H35: ='第２号様式（第４条関係）'!H27 -> 0 | I35: ='第２号様式（第４条関係）'!I27 -> 0
B37: 「介護ソフト定着促進支援」を活用して導入する経費 | G37: ='第２号様式（第４条関係）'!G27 -> 0 | H37: ='第２号様式（第４条関係）'!H27 -> 0 | I37: ='第２号様式（第４条関係）'!I27 -> 0
B39: プルダウンを選択してください | K39: =IFERROR(VLOOKUP(B39,データ!$F$26:$I$27,4,0),0) -> 0
B40: 小計 | H40: =H30+H33+H35+H37 -> 0 | J40: =IFERROR(ROUNDDOWN(H40*4/5,-3),"") -> 0 | K40: =K30+K32+K39 -> 0 | L40: =MIN(J40,K40) -> 0
H41: =H31+H34+H36+H38 -> 0 | J41: =IFERROR(ROUNDDOWN(H41*4/5,-3),"") -> 0 | K41: =K30+K32+K39 -> 0 | L41: =MIN(J41,K41) -> 0
B43: 事業所名：
B44: 種類 | E44: 職員数 | G44: 製品名 | H44: 補助対象経費（A) | I44: （B)台数 | J44: （C）=（A)×4/5 ※千円未満切捨 | K44: （D)基準額 | L44: （E）
B45: プルダウンを選択してください | E45: プルダウンを選択してください | K45: =IFERROR(VLOOKUP(B45&E45,データ!H:I,2,0),0) -> 0
B47: プルダウンを選択してください | K47: =IFERROR(VLOOKUP(B47,データ!$F$23:$I$24,4,0),0) -> 0
B48: 「介護ソフト定着促進支援」を活用して導入する経費
B50: 「介護ソフト定着促進支援」を活用して導入する経費
B52: 「介護ソフト定着促進支援」を活用して導入する経費
B54: プルダウンを選択してください | K54: =IFERROR(VLOOKUP(B54,データ!$F$26:$I$27,4,0),0) -> 0
B55: 小計 | H55: =H45+H48+H50+H52 -> 0 | J55: =IFERROR(ROUNDDOWN(H55*4/5,-3),"") -> 0 | K55: =K45+K47+K54 -> 0 | L55: =MIN(J55,K55) -> 0
H56: =H46+H49+H51+H53 -> 0 | J56: =IFERROR(ROUNDDOWN(H56*4/5,-3),"") -> 0 | K56: =K45+K47+K54 -> 0 | L56: =MIN(J56,K56) -> 0
B58: 事業所名：
B59: 種類 | E59: 職員数 | G59: 製品名 | H59: 補助対象経費（A) | I59: （B)台数 | J59: （C）=（A)×4/5 ※千円未満切捨 | K59: （D)基準額 | L59: （E）
...

Sheet 【変更申請】３号様式（第４条関係）※シート複写可
A2: 第３号様式（第４条関係）
A4: 事業計画書
B7: １． | D7: 導入機器名
B8: ２． | D8: 導入時期 | N8: 年 | Q8: 月 | T8: 日 | U8: ～ | V8: ='第１号様式（第４条関係）'!O22 -> 0 | X8: ='第１号様式（第４条関係）'!Q22 -> 0 | Z8: 年 | AA8: ='第１号様式（第４条関係）'!T22 -> 0 | AC8: 月 | AD8: ='第１号様式（第４条関係）'!W22 -> 0 | AF8: 日）
N9: 年 | Q9: 月 | T9: 日 | U9: ～ | Z9: 年 | AC9: 月 | AF9: 日
B10: ３． | D10: 導入台（セット）数
B11: ４． | D11: 導入する事業所名および住所 | J11: 事業所名
J12: 住所
B13: ５． | D13: 導入に要する経費の 内訳 | J13: 項目 | Z13: 金額
AF14: 円）
AF15: 円
AF16: 円）
AF17: 円
AF18: 円）
AF19: 円
AF20: 円）
AF21: 円
AF22: 円）
AF23: 円
AF24: 円）
AF25: 円
... AF43: 円
J44: 合計 | Z44: =Z14+Z16+Z18+Z20+Z22+Z24+Z26+Z28+Z30+Z32+Z34+Z36+Z38+Z40+Z42 -> 0 | AF44: 円)
Z45: =Z15+Z17+Z19+Z21+Z23+Z25+Z27+Z29+Z31+Z33+Z35+Z37+Z39+Z41+Z43 -> 0 | AF45: 円
B46: ６． | D46: 補助対象経費の内訳 | J46: 項目 | Z46: 金額
AF47: 円）
AF48: 円
AF49: 円）
AF50: 円
AF51: 円）
AF52: 円
AF53: 円）
AF54: 円
AF55: 円）
AF56: 円
AF57: 円）
AF58: 円
... AF76: 円
J77: 合計 | Z77: =Z47+Z49+Z51+Z53+Z55+Z57+Z59+Z61+Z63+Z65+Z67+Z69+Z71+Z73+Z75 -> 0 | AF77: 円)
Z78: =Z48+Z50+Z52+Z54+Z56+Z58+Z60+Z62+Z64+Z66+Z68+Z70+Z72+Z74+Z76 -> 0 | AF78: 円

Sheet 【変更申請様式（第４条関係）　※シート複写不可
A2: 第４号様式（第４条関係）
A4: 収支予算書
A6: １ 収入
B7: 項目 | J7: 予算額 | R7: 備考
B8: 県費補助金 | Q8: 円
Q9: 円
B10: 自己負担金 | Q10: 円
Q11: 円
Q12: 円
Q13: 円
Q14: 円
Q15: 円
B16: 計 | J16: =J8+J10+J12+J14 -> 0 | Q16: 円
Q17: 円
A19: ２ 支出
B20: 項目 | J20: 予算額 | R20: 備考
B21: 機器導入費 | Q21: 円
Q22: 円
Q23: 円
Q24: 円
Q25: 円
Q26: 円
Q27: 円
Q28: 円
B29: 計 | J29: =J21+J23+J25+J27 -> 0 | Q29: 円
J30: =J22+J24+J26+J28 -> 0 | Q30: 円
O33: =IF(J16=J29,"OK","NG") -> OK
O34: =IF(J17=J30,"OK","NG") -> OK
